BEGIN:VCALENDAR
VERSION:2.0
PRODID:-//Diócesis Teruel - ECPv6.15.16//NONSGML v1.0//EN
CALSCALE:GREGORIAN
METHOD:PUBLISH
X-ORIGINAL-URL:https://teruel.gabrielmora.com
X-WR-CALDESC:Eventos para Diócesis Teruel
REFRESH-INTERVAL;VALUE=DURATION:PT1H
X-Robots-Tag:noindex
X-PUBLISHED-TTL:PT1H
BEGIN:VTIMEZONE
TZID:Europe/Madrid
BEGIN:DAYLIGHT
TZOFFSETFROM:+0100
TZOFFSETTO:+0200
TZNAME:CEST
DTSTART:20180325T010000
END:DAYLIGHT
BEGIN:STANDARD
TZOFFSETFROM:+0200
TZOFFSETTO:+0100
TZNAME:CET
DTSTART:20181028T010000
END:STANDARD
BEGIN:DAYLIGHT
TZOFFSETFROM:+0100
TZOFFSETTO:+0200
TZNAME:CEST
DTSTART:20190331T010000
END:DAYLIGHT
BEGIN:STANDARD
TZOFFSETFROM:+0200
TZOFFSETTO:+0100
TZNAME:CET
DTSTART:20191027T010000
END:STANDARD
BEGIN:DAYLIGHT
TZOFFSETFROM:+0100
TZOFFSETTO:+0200
TZNAME:CEST
DTSTART:20200329T010000
END:DAYLIGHT
BEGIN:STANDARD
TZOFFSETFROM:+0200
TZOFFSETTO:+0100
TZNAME:CET
DTSTART:20201025T010000
END:STANDARD
BEGIN:DAYLIGHT
TZOFFSETFROM:+0100
TZOFFSETTO:+0200
TZNAME:CEST
DTSTART:20210328T010000
END:DAYLIGHT
BEGIN:STANDARD
TZOFFSETFROM:+0200
TZOFFSETTO:+0100
TZNAME:CET
DTSTART:20211031T010000
END:STANDARD
BEGIN:DAYLIGHT
TZOFFSETFROM:+0100
TZOFFSETTO:+0200
TZNAME:CEST
DTSTART:20220327T010000
END:DAYLIGHT
BEGIN:STANDARD
TZOFFSETFROM:+0200
TZOFFSETTO:+0100
TZNAME:CET
DTSTART:20221030T010000
END:STANDARD
BEGIN:DAYLIGHT
TZOFFSETFROM:+0100
TZOFFSETTO:+0200
TZNAME:CEST
DTSTART:20230326T010000
END:DAYLIGHT
BEGIN:STANDARD
TZOFFSETFROM:+0200
TZOFFSETTO:+0100
TZNAME:CET
DTSTART:20231029T010000
END:STANDARD
BEGIN:DAYLIGHT
TZOFFSETFROM:+0100
TZOFFSETTO:+0200
TZNAME:CEST
DTSTART:20240331T010000
END:DAYLIGHT
BEGIN:STANDARD
TZOFFSETFROM:+0200
TZOFFSETTO:+0100
TZNAME:CET
DTSTART:20241027T010000
END:STANDARD
BEGIN:DAYLIGHT
TZOFFSETFROM:+0100
TZOFFSETTO:+0200
TZNAME:CEST
DTSTART:20250330T010000
END:DAYLIGHT
BEGIN:STANDARD
TZOFFSETFROM:+0200
TZOFFSETTO:+0100
TZNAME:CET
DTSTART:20251026T010000
END:STANDARD
BEGIN:DAYLIGHT
TZOFFSETFROM:+0100
TZOFFSETTO:+0200
TZNAME:CEST
DTSTART:20260329T010000
END:DAYLIGHT
BEGIN:STANDARD
TZOFFSETFROM:+0200
TZOFFSETTO:+0100
TZNAME:CET
DTSTART:20261025T010000
END:STANDARD
END:VTIMEZONE
BEGIN:VEVENT
DTSTART;TZID=Europe/Madrid:20250224T180000
DTEND;TZID=Europe/Madrid:20250224T190000
DTSTAMP:20260421T153921
CREATED:20250128T054429Z
LAST-MODIFIED:20250128T054429Z
UID:10000556-1740420000-1740423600@teruel.gabrielmora.com
SUMMARY:Escuela de Oración y Silencio “DEOS”
DESCRIPTION:Desde la Delegación Diocesana de Atrio de los Gentiles/Primer Anuncio se ha puesto en marcha en este Año Jubilar la Escuela de Oración y Silencio “DEOS”. Como primera actividad se va a desarrollar en la ciudad de Teruel un taller de silencio y de oración para vivirlos en lo cotidiano. \nLa duración del curso será de una hora (de 18.00 a 19.00) durante seis lunes consecutivos. Comenzará el taller el lunes 17 de febrero\, en el Colegio Diocesano de las Viñas\, hasta el 24 de marzo. Este taller de iniciación al silencio y a la oración no está pensado tanto para creyentes practicantes que asisten habitualmente a las celebraciones sino para aquellos que pueden estar en búsqueda o estar en actitud más abierta hacia la trascendencia sin haberlo concretado aún. \nDe este modo\, si conoces a alguna persona buscadora que crees que podría ayudarle\, te animamos a que le invites y se lo propongas. Esa puede ser tu misión. El precio del taller es de 20€. Si por razones económicas no se pudiera colaborar\, la organización correría con el gasto. Este proyecto que ahora comienza en Teruel\, se desarrollará a continuación en el resto de arciprestazgos de la Diócesis\, para que llegue a todos los pueblos y localidades de la misma. Para inscripciones e información/dudas\, pueden escribir a tesecre@planalfa.es o en el teléfono 978619950.
URL:https://teruel.gabrielmora.com/event/escuela-de-oracion-y-silencio-deos/2025-02-24/
LOCATION:Colegio Las Viñas de Teruel\, Teruel
ATTACH;FMTTYPE=:
GEO:40.3456879;-1.1064345
END:VEVENT
BEGIN:VEVENT
DTSTART;TZID=Europe/Madrid:20250217T180000
DTEND;TZID=Europe/Madrid:20250217T190000
DTSTAMP:20260421T153921
CREATED:20250128T054429Z
LAST-MODIFIED:20250128T054429Z
UID:10000555-1739815200-1739818800@teruel.gabrielmora.com
SUMMARY:Escuela de Oración y Silencio “DEOS”
DESCRIPTION:Desde la Delegación Diocesana de Atrio de los Gentiles/Primer Anuncio se ha puesto en marcha en este Año Jubilar la Escuela de Oración y Silencio “DEOS”. Como primera actividad se va a desarrollar en la ciudad de Teruel un taller de silencio y de oración para vivirlos en lo cotidiano. \nLa duración del curso será de una hora (de 18.00 a 19.00) durante seis lunes consecutivos. Comenzará el taller el lunes 17 de febrero\, en el Colegio Diocesano de las Viñas\, hasta el 24 de marzo. Este taller de iniciación al silencio y a la oración no está pensado tanto para creyentes practicantes que asisten habitualmente a las celebraciones sino para aquellos que pueden estar en búsqueda o estar en actitud más abierta hacia la trascendencia sin haberlo concretado aún. \nDe este modo\, si conoces a alguna persona buscadora que crees que podría ayudarle\, te animamos a que le invites y se lo propongas. Esa puede ser tu misión. El precio del taller es de 20€. Si por razones económicas no se pudiera colaborar\, la organización correría con el gasto. Este proyecto que ahora comienza en Teruel\, se desarrollará a continuación en el resto de arciprestazgos de la Diócesis\, para que llegue a todos los pueblos y localidades de la misma. Para inscripciones e información/dudas\, pueden escribir a tesecre@planalfa.es o en el teléfono 978619950.
URL:https://teruel.gabrielmora.com/event/escuela-de-oracion-y-silencio-deos/2025-02-17/
LOCATION:Colegio Las Viñas de Teruel\, Teruel
ATTACH;FMTTYPE=:
GEO:40.3456879;-1.1064345
END:VEVENT
BEGIN:VEVENT
DTSTART;TZID=Europe/Madrid:20240615T093000
DTEND;TZID=Europe/Madrid:20240615T160000
DTSTAMP:20260421T153921
CREATED:20240110T124243Z
LAST-MODIFIED:20240110T124243Z
UID:10000437-1718443800-1718467200@teruel.gabrielmora.com
SUMMARY:Asamblea Diocesana - «Iniciar y crecer en la oración»
DESCRIPTION:El sábado 15 de junio\, de 10 a 16 h\, viviremos una nueva Asamblea Diocesana en el Colegio Las Viñas\, en la que queremos ofrecer herramientas para iniciar y crecer en la relación con Dios\, en consonancia con nuestro plan pastoral y el Año de preparación al Jubileo 2025. \n\n\n\nPara organizar la participación en los talleres y la comida compartida\, se deben inscribir en el formulario online. Las personas que no se puedan inscribir online lo pueden hacer desde su parroquia. Hay de tiempo hasta el lunes 10 de junio. \n11 talleres\nSe ofrecen 11 talleres en tres sesiones\, cada participante puede realizar 3 de ellos que deberá elegir en el formulario online\, los participantes por taller son limitados y van por orden de inscripción\, si alguno al realizar la inscripción está lleno no lo podrá elegir y tendrá que seleccionar otro. \n\nOrar ante el Sufrimiento: Un modo de orar es presentar a Dios nuestras necesidades\, nuestro sufrimiento\, nuestra indigencia y nuestra confianza. Quizás podemos así poner más en sintonía nuestra comunicación con Dios dejando a Dios ser Dios. (Aula 1)\nOrar con la Belleza y el Arte: La oración no es algo solamente mental sino que implica a toda la persona y a todos los sentidos; utilizarlos para percibir a Dios a través de un icono\, una imagen\, la belleza\, es una camino de acceso a Dios valioso y sugerente. (Aula 2)\nOrar desde el Silencio: El orante sabe que para estar ante Dios tiene que apartarse del ruido\, del ajetreo\, de la prisa y de los nervios. El clima de silencio es muy necesario para desarrollar la actividad del espíritu. Dejar la ausencia para entrar en la Presencia de Aquel que sabemos nos ama. (Capilla piso superior)\nOrar con la técnica Godly Play: Con esta técnica se pretende hacer una lectura orante de la palabra de Dios de una manera más vivencial y experiencial con los niños a los que se les narran historias bíblicas\, parábolas y personajes de forma creativa y bella. (Aula 3)\nOrar con la Música: Existe un mundo invisible que no entra por tus ojos\, sino por uno de los sentidos más finos: el oído. La buena música nos conduce a un mundo interior de emociones\, cambia nuestro ánimo y nos hace descansar con paz interior. Esa experiencia y sensación de plenitud también puede elevarnos hacia Dios. (Sala de Juntas)\nOrar con Taizé: Es una forma de adoración sencilla y meditativa que nos llama a pensar profundamente en la presencia de Jesús a nuestro alrededor y dentro de nosotros. Canciones de mantras\, silencio de oración y lecturas breves guían el enfoque de la oración en un ambiente iluminado por velas. (Aula 4)\nOrar con la Sagrada Escritura: Este taller nos ayudará a descubrir cómo Dios nos habla a través de la Sagrada Escritura con el método de resonancias\, aquellas frases o palabras que de modo especial nos afectan más al leerlas. (Aula 5)\nOrar con la Vida: Lo cotidiano es todo aquello que acontece en la «vida diaria» (hechos\, personas\, experiencias\, situaciones; propias y ajenas…) poder hablar de ello con Jesús es clave en la vida de la persona orante que vive toda su vida en relación personal con Dios. (Aula 6)\nOrar con el Santísimo: Es la oración al Santísimo Sacramento\, un encuentro cara a cara con Jesús vivo y presente bajo la especie del pan. Jesús nos prometió que estaría con nosotros hasta el fin del mundo y ha querido permanecer de este modo en este Sacramento del Amor. (Capilla)\nOratorio con niños: El Oratorio con Niños Pequeños es una experiencia de oración con niños en la que se propicia el encuentro con Jesús a través de sus presencias. Todo es sencillo\, esencial; se trata de que nada impida esta relación entre Jesús y el niño. (Aula Infantil)\nOrar con el Cuerpo: Para orar hay que aventurarse a explorar sensaciones\, posturas y movimientos pues\, como lo apuntó San Ignacio de Loyola\, el camino para amar\, seguir y conocer a Jesús es también desde la corporalidad. El objetivo de este taller es aprender orar con todo tu ser\, con todo tu cuerpo\, aquí encontrarás cómo hacerlo. (Salón de Actos)\n\nHorario: \n\n09:30 Acogida\n10:00 Oración\n10:20 Conferencia por José Luis Coll OFM\n11:30 Pausa Café – Organizado por Cáritas diocesana\n12:00 Primer taller (de los 11 a elegir)*\n12:45 Segundo taller (de los 11 a elegir)*\n13:30 Tercer taller (de los 11a elegir)*\n14.30 Comida. Desde la organización se ofrecerá paella y agua; se invita a los participantes a traer algún postre para compartir.\n16.00 Fin de la Asamblea.\n\n*Los talleres se elegirán en el formulario de inscripciones\, las plazas son limitadas y se elegirán por orden de inscripción.
URL:https://teruel.gabrielmora.com/event/asamblea-diocesana-2/
LOCATION:Colegio Las Viñas de Teruel\, Teruel
CATEGORIES:Diocesano
ATTACH;FMTTYPE=:
ORGANIZER;CN="Di%C3%B3cesis de Teruel y Albarrac%C3%ADn":MAILTO:tesecre@planalfa.es
GEO:40.3456879;-1.1064345
END:VEVENT
BEGIN:VEVENT
DTSTART;TZID=Europe/Madrid:20230626T110000
DTEND;TZID=Europe/Madrid:20230626T180000
DTSTAMP:20260421T153921
CREATED:20230207T053615Z
LAST-MODIFIED:20230207T053615Z
UID:10000370-1687777200-1687802400@teruel.gabrielmora.com
SUMMARY:Bodas de Oro y Plata Sacerdotales
DESCRIPTION:El  lunes 26 de junio celebraremos las bodas de oro sacerdotales de Mons. Joaquín Gimeno Lahoz\, Don Manuel Oliver Domingo y el P. Felipe García Olmo; también festejaremos los 25 años de ordenación del P. José María Simón Sánchez y Don Jorge Alberto Gómez Velázquez.  \nComenzaremos a las 11 h en el Colegio Las Viñas\, con una oración comunitaria y una charla de Mons. Juan Tomás Oliver Climent\, obispo emérito de Requena (Perú) y en la actualidad miembro de la comunidad franciscana de Teruel. \nDespués del sencillo acto de homenaje\, a las 14 h compartirán los sacerdotes una comida de hermandad\, y a las 17 h será  la Eucaristía en la Catedral. \n¡Enhorabuena a los cinco sacerdotes por esta celebración!
URL:https://teruel.gabrielmora.com/event/bodas-de-oro-y-plata-sacerdotales/
LOCATION:Colegio Las Viñas de Teruel\, Teruel
CATEGORIES:Diocesano
ATTACH;FMTTYPE=:
ORGANIZER;CN="Di%C3%B3cesis de Teruel y Albarrac%C3%ADn":MAILTO:tesecre@planalfa.es
GEO:40.3456879;-1.1064345
END:VEVENT
BEGIN:VEVENT
DTSTART;TZID=Europe/Madrid:20230617T093000
DTEND;TZID=Europe/Madrid:20230617T160000
DTSTAMP:20260421T153921
CREATED:20230207T053321Z
LAST-MODIFIED:20230207T053321Z
UID:10000369-1686994200-1687017600@teruel.gabrielmora.com
SUMMARY:Asamblea Diocesana - "Soñando Juntos"
DESCRIPTION:El sábado 17 de junio viviremos una nueva Asamblea Diocesana en el Colegio Las Viñas. Tendremos la ocasión de disfrutar y celebrar nuestra condición de hijos e hijas de Dios\, miembros de esta querida Iglesia Diocesana de Teruel y Albarracín. \nA las nueve y media de la mañana será la acogida y a las diez empezará el trabajo con la importante tarea de aprobar\, si procede\, el Plan Pastoral y concretar los objetivos y acciones prioritarios para el curso 2023-2024. Habrá comida conjunta y finalizará la jornada sobre las cuatro de la tarde. \nHorario\n9.30. Acogida. \n10.00. Presentación y aprobación\, si procede\, del Plan Pastoral. 11.30. Café. \n12.00. Dinámica para concretar los objetivos y acciones prioritarios para el curso 2023-2024. \n13.45. Celebración\n14.30. Comida. Desde la organización se ofrecerá paella y agua; se invita a los \nparticipantes a traer algún postre para compartir. \n16.00. Fin del encuentro. \nEs importante vuestra participación y vuestra colaboración para esta Asamblea. Las personas interesadas se tienen que inscribir en su parroquia hasta el lunes 12 de junio.
URL:https://teruel.gabrielmora.com/event/asamblea-diocesana-nuevo-plan-diocesano-de-pastoral/
LOCATION:Colegio Las Viñas de Teruel\, Teruel
CATEGORIES:Diocesano
ATTACH;FMTTYPE=:
ORGANIZER;CN="Di%C3%B3cesis de Teruel y Albarrac%C3%ADn":MAILTO:tesecre@planalfa.es
GEO:40.3456879;-1.1064345
END:VEVENT
BEGIN:VEVENT
DTSTART;TZID=Europe/Madrid:20221008T100000
DTEND;TZID=Europe/Madrid:20221008T170000
DTSTAMP:20260421T153921
CREATED:20220929T052229Z
LAST-MODIFIED:20220929T052229Z
UID:10000313-1665223200-1665248400@teruel.gabrielmora.com
SUMMARY:Asamblea Diocesana
DESCRIPTION:El sábado 8 de octubre\, de 10 a 17 h\, celebraremos una Asamblea Diocesana en el Colegio Las Viñas. \n“En la Asamblea Diocesana\, que celebraremos el sábado 8 de octubre\, y a la que estáis convocados todos los cristianos y cristianas de esta tierra\, analizaremos las propuestas de los grupos que participaron en la fase diocesana del Sínodo de los obispos; para identificar las necesidades más hondas de las personas con las que convivimos y buscar el modo de responder a esas necesidades\, desde nuestra identidad cristiana.» \nCon estas palabras nos convocaba don José Antonio\, nuestro Obispo\, en su Carta desde la fe titulada Nuevo curso\, nuevos desafíos\, a la próxima Asamblea Diocesana. \nUna Asamblea para avanzar en el camino sinodal iniciado\, de modo que nos ayude a vivir\, celebrar y transmitir la fe cristiana en esta tierra y en este tiempo. \nDe nuevo estamos todos convocados a participar\, como ya hicimos en la asamblea del pasado 2 de abril. Para inscribirse hay que ponerse en contacto con tu parroquia\, sobretodo es necesario para saber cuantos van a participar y conseguir el ticket para la comida compartida. \nHorario\n09: 30 Acogida \n10:00 Presentación de las aportaciones de Teruel al Sínodo de los obispos. \n10:30 Motivación espiritual y oración \n11:30 Café \n12:00 Dinámica para descubrir las necesidades profundas de las personas\, a las que tenemos que responder como Iglesia\,\nque se reflejan en las aportaciones al Sínodo. \n14:00 Comida (Paella) \n16:00 Café concierto con Fran Ros \n17:00 Fin de la Asamblea \nAnimamos a todos los diocesanos a participar en la Asamblea para seguir avanzando en el camino sinodal.
URL:https://teruel.gabrielmora.com/event/asamblea-diocesana/
LOCATION:Colegio Las Viñas de Teruel\, Teruel
CATEGORIES:Diocesano
ORGANIZER;CN="Di%C3%B3cesis de Teruel y Albarrac%C3%ADn":MAILTO:tesecre@planalfa.es
GEO:40.3456879;-1.1064345
END:VEVENT
BEGIN:VEVENT
DTSTART;TZID=Europe/Madrid:20220402T100000
DTEND;TZID=Europe/Madrid:20220402T170000
DTSTAMP:20260421T153921
CREATED:20220310T112651Z
LAST-MODIFIED:20220310T112651Z
UID:10000300-1648893600-1648918800@teruel.gabrielmora.com
SUMMARY:Asamblea diocesana el 2 de abril
DESCRIPTION:El sábado 2 de abril es el día elegido para celebrar la Asamblea Diocesana de cara a la fase diocesana del sinodo. \nSe celebrará en el Colegio Diocesano Las Viñas en Teruel\, de diez de la mañana a cinco de la tarde\, compartiremos comida\, formación\, música\, testimonios… \n\n\n\n\n\n\n\nSerá un encuentro formativo y festivo\, en el que compartiremos algunas experiencias sinodales\, sencillas pero significativas\, que pueden servirnos de impulso para crecer en este camino eclesial. \nPrograma\n10: 00 Acogida \n10:15 Conferencia de Carlos Luna.\n“Un camino de sinodalidad hacia la evangelización”. Los niños y jóvenes tendrán actividades alternativas. \n11:15 Diálogo de los asistentes con el ponente \n11:45 Café solidario de Cáritas \n12:15 Testimonios sinodales y proyección de video. \n13:00 Oración \n14:00 Comida (Paella) \n15:30 Concierto “Javi Sánchez” \nPara inscribirse deben hacerlo en su parroquia.
URL:https://teruel.gabrielmora.com/event/asamblea-diocesana-el-2-de-abril/
LOCATION:Colegio Las Viñas de Teruel\, Teruel
CATEGORIES:Diocesano
ATTACH;FMTTYPE=:
ORGANIZER;CN="Di%C3%B3cesis de Teruel y Albarrac%C3%ADn":MAILTO:tesecre@planalfa.es
GEO:40.3456879;-1.1064345
END:VEVENT
BEGIN:VEVENT
DTSTART;TZID=Europe/Madrid:20190625T110000
DTEND;TZID=Europe/Madrid:20190625T183000
DTSTAMP:20260421T153921
CREATED:20190606T100802Z
LAST-MODIFIED:20190606T100802Z
UID:10000181-1561460400-1561487400@teruel.gabrielmora.com
SUMMARY:Bodas de Oro Sacerdotales de la diócesis
DESCRIPTION:Como todos los años\, los sacerdotes y diáconos de la Iglesia\, en Teruel y Albarracín\, se reunirán para celebrar las bodas de oro sacerdotales. Este año cumplen el 50 aniversario de la ordenación sacerdotal\n3 sacerdotes\, y este año también\, se celebra un centenario: \nOrdenados hace 50 años\nD. Ramón Beltrán Daudén\nD. Jesús María Martínez Rodrigo\nD. Pedro Soler Montero \nCentenario de D. Florencio Lorente Pérez \nHORARIO\n11:00 Acogida\n11:30 Oración\n12:00 Ponencia: “De una pastoral de mantenimiento\na una pastoral misionera”.\npor la Comisión Permanente de la Acción Católica General\n13:30 Homenaje a los sacerdotes de las bodas y el centenario.\n14:00 Comida\n17:00 Eucaristía en la Catedral de Santa María concelebrada por\ntodos\, para dar gracias a Dios\, para pedir el aliento del Espíritu y\norar por los sacerdotes que han fallecido.
URL:https://teruel.gabrielmora.com/event/bodas-de-oro-sacerdotales-de-la-diocesis/
LOCATION:Colegio Las Viñas de Teruel\, Teruel
CATEGORIES:Diocesano
ORGANIZER;CN="Di%C3%B3cesis de Teruel y Albarrac%C3%ADn":MAILTO:tesecre@planalfa.es
GEO:40.3456879;-1.1064345
END:VEVENT
BEGIN:VEVENT
DTSTART;TZID=Europe/Madrid:20190511T100000
DTEND;TZID=Europe/Madrid:20190511T140000
DTSTAMP:20260421T153921
CREATED:20190430T113230Z
LAST-MODIFIED:20190430T113230Z
UID:10000166-1557568800-1557583200@teruel.gabrielmora.com
SUMMARY:Encuentro de Confirmación Arciprestazgo de Teruel
DESCRIPTION:El sábado\, 11 de mayo\, será el Encuentro de Confirmación en Teruel\, será desde las diez de la mañana hasta las dos del mediodía en el colegio diocesano “Las Viñas”.
URL:https://teruel.gabrielmora.com/event/encuentro-de-confirmacion-arciprestazgo-de-teruel/
LOCATION:Colegio Las Viñas de Teruel\, Teruel
ATTACH;FMTTYPE=:
GEO:40.3456879;-1.1064345
END:VEVENT
BEGIN:VEVENT
DTSTART;TZID=Europe/Madrid:20190416T110000
DTEND;TZID=Europe/Madrid:20190416T150000
DTSTAMP:20260421T153921
CREATED:20181031T112150Z
LAST-MODIFIED:20181031T112150Z
UID:10000062-1555412400-1555426800@teruel.gabrielmora.com
SUMMARY:Retiro Sacerdotal de Martes Santo
DESCRIPTION:Carta de don Antonio Gómez\, obispo de la diócesis\, convocando al Retiro y Misa Crismal del Martes Santo en las VIÑAS a las 11:30 horas y comida fraterna. La Misa en la Catedral de Teruel a las 5 de la tarde. \n \nQueridos hermanos sacerdotes\, \nMe pongo en comunicación con todos vosotros para recordaros y anunciaros la cita anual que tenemos los sacerdotes de la Iglesia en Teruel y Albarracín para celebrar la Misa Crismal. \nComo ya sabéis\, es una celebración de comunión del Obispo\, sus presbíteros y el Pueblo Santo de Dios\, por eso\, en la medida de vuestras posibilidades es un signo que podáis acompañaros también de algunos fieles –quizás algunos de los que se van a confirmar este año– en representación de vuestras comunidades parroquiales.\nCristo\, que es el Ungido de Dios\, nos regala en esta Eucaristía los ungüentos de la salvación ungüentos de la salvación para que podamos seguir administrando los sacramentos que nos dan la vida\, nos sanan y nos configuran con Él\, el Buen Pastor. \nPor eso dentro de la misma concelebración renovaremos nuestras promesas sacerdotales\, para que nos identifiquemos con Cristo: \n«Ellos renuevan en nombre de Cristo el sacrificio de la redención humana\, \npreparan a tus hijos el banquete pascual\, \nguían en la caridad a tu pueblo santo\, \nlo alimentan con tu palabra y lo fortalecen con tus sacramentos. \nTus sacerdotes\, al entregar su vida por ti\, Padre\,\n y por la salvación de los hermanos\, \ndeben esforzarse por reproducir en sí la imagen de Cristo \ny dar testimonio de fidelidad y de amor”.\nPrefacio de la Misa Crismal \nEs imprescindible que no olvidemos renovar el crisma y los óleos cada año y en cada parroquia\, o unidad pastoral\, para estar\, también en estos signos sacramentales\, en comunión de Iglesia\, el Cuerpo de Cristo del que formamos parte.\nUn abrazo y una oración\, \n+Antonio Gómez Cantero\nObispo de la diócesis de Teruel y Albarracín
URL:https://teruel.gabrielmora.com/event/retiro-sacerdotal-de-martes-santo/
LOCATION:Colegio Las Viñas de Teruel\, Teruel
CATEGORIES:Diocesano
ORGANIZER;CN="Di%C3%B3cesis de Teruel y Albarrac%C3%ADn":MAILTO:tesecre@planalfa.es
GEO:40.3456879;-1.1064345
END:VEVENT
BEGIN:VEVENT
DTSTART;TZID=Europe/Madrid:20190406T100000
DTEND;TZID=Europe/Madrid:20190406T140000
DTSTAMP:20260421T153921
CREATED:20190313T090649Z
LAST-MODIFIED:20190313T090649Z
UID:10000138-1554544800-1554559200@teruel.gabrielmora.com
SUMMARY:Encuentro de niños en primera comunión del Arciprestazgo de Teruel
DESCRIPTION:Encuentro de niños en primera comunión del Arciprestazgo de Teruel\, será el día 6 de abril\, de 10 a 14 horas\, en el Colegio Las Viñas de Teruel.
URL:https://teruel.gabrielmora.com/event/encuentro-de-ninos-en-primera-comunion-del-arciprestazgo-de-teruel/
LOCATION:Colegio Las Viñas de Teruel\, Teruel
ATTACH;FMTTYPE=:
GEO:40.3456879;-1.1064345
END:VEVENT
END:VCALENDAR